BEGIN:VCALENDAR
VERSION:2.0
PRODID:-//St. Demiana Coptic Orthodox Church San Diego CA - ECPv6.15.12.1//NONSGML v1.0//EN
CALSCALE:GREGORIAN
METHOD:PUBLISH
X-ORIGINAL-URL:https://stdemiana.com
X-WR-CALDESC:Events for St. Demiana Coptic Orthodox Church San Diego CA
REFRESH-INTERVAL;VALUE=DURATION:PT1H
X-Robots-Tag:noindex
X-PUBLISHED-TTL:PT1H
BEGIN:VTIMEZONE
TZID:America/Los_Angeles
BEGIN:DAYLIGHT
TZOFFSETFROM:-0800
TZOFFSETTO:-0700
TZNAME:PDT
DTSTART:20220313T100000
END:DAYLIGHT
BEGIN:STANDARD
TZOFFSETFROM:-0700
TZOFFSETTO:-0800
TZNAME:PST
DTSTART:20221106T090000
END:STANDARD
BEGIN:DAYLIGHT
TZOFFSETFROM:-0800
TZOFFSETTO:-0700
TZNAME:PDT
DTSTART:20230312T100000
END:DAYLIGHT
BEGIN:STANDARD
TZOFFSETFROM:-0700
TZOFFSETTO:-0800
TZNAME:PST
DTSTART:20231105T090000
END:STANDARD
BEGIN:DAYLIGHT
TZOFFSETFROM:-0800
TZOFFSETTO:-0700
TZNAME:PDT
DTSTART:20240310T100000
END:DAYLIGHT
BEGIN:STANDARD
TZOFFSETFROM:-0700
TZOFFSETTO:-0800
TZNAME:PST
DTSTART:20241103T090000
END:STANDARD
END:VTIMEZONE
BEGIN:VTIMEZONE
TZID:UTC
BEGIN:STANDARD
TZOFFSETFROM:+0000
TZOFFSETTO:+0000
TZNAME:UTC
DTSTART:20160101T000000
END:STANDARD
END:VTIMEZONE
BEGIN:VEVENT
DTSTART;VALUE=DATE:20230603
DTEND;VALUE=DATE:20230605
DTSTAMP:20260423T081131
CREATED:20230509T230342Z
LAST-MODIFIED:20230602T045007Z
UID:27497-1685750400-1685923199@stdemiana.com
SUMMARY:St. Demiana Coptic (Egyptian) Festival - June 2023
DESCRIPTION:Location\nSt. Demiana Coptic Orthodox Church\n14300 Camino Del Sur\, San Diego\, CA 92127\n\nDate/Time\nSaturday –  June 3rd\, 11:00 AM – 8:00 PMSunday    –  June 4th\, 12:00 PM – 7:00 PM\n  \nHighlights of the Festival Include:Cultural Exhibitions\nImmerse yourself in the rich heritage and traditions of our faith through cultural displays and exhibitions. Explore the history\, art\, and artifacts that depict our shared spiritual journey. Guided tours describe the Coptic Egyptian church rites and a brief history of the lives of our saints.  Before you leave\, don’t forget to stop by the bookstore for Egyptian souvenirs. \nFood and Refreshments\nIndulge in a delectable variety of Egyptian cuisines with numerous booths offering a range of culinary delights. With a wide array of authentic Egyptian flavors\, there will be something to satisfy every palate. \nGames and Activities\nEngage in a spirit of friendly competition with exciting games and activities for all ages. There will be plenty of fun-filled options to keep you entertained throughout the day. \nRaffle Draw\nParticipate in our raffle draw for a chance to win exciting prizes. \nWe invite everyone to join us at the annual Coptic Egyptian Church Festival. It’s an occasion for unity\, friendship\, and building bridges within our community. Feel free to bring your friends\, family\, and neighbors to share in this festive celebration. Let us come together\, embrace the spirit of joy\, and strengthen the bonds that unite us as a community. See you there!\n  \nChurch Saints\n  \n  \n\n \n \nSt. Demiana                                          St. Mina \n\n \n \nSt. Philopatir Mercurius                       John the Baptist Prepares the Way \n\n   \nArchangel Michael                                The 21 Martyrs of Libya \n\n    \nSt. Mark                                                   St. George \n\n    \nSt. Abanoub                                           Christ’s Birth announced to Mary \n\n 
URL:https://stdemiana.com/event/st-demiana-church-open-house-june-2023/
END:VEVENT
BEGIN:VEVENT
DTSTART;TZID=UTC:20190914T110000
DTEND;TZID=UTC:20190914T180000
DTSTAMP:20260423T081131
CREATED:20190805T082313Z
LAST-MODIFIED:20190905T102043Z
UID:25672-1568458800-1568484000@stdemiana.com
SUMMARY:Open House
DESCRIPTION: Location\nSt. Demiana Church\n14300 Camino Del Sur\,  San Diego\, CA 92127\n\nDate/Time\nSeptember  14th\, 2019 from 11:00 AM to 6:00 PM\n\nOpen House Flyer
URL:https://stdemiana.com/event/openhouse/
END:VEVENT
BEGIN:VEVENT
DTSTART;VALUE=DATE:20190831
DTEND;VALUE=DATE:20190903
DTSTAMP:20260423T081131
CREATED:20190626T055046Z
LAST-MODIFIED:20190627T235631Z
UID:25646-1567209600-1567468799@stdemiana.com
SUMMARY:"Get Into the Deep" Church Retreat September 2019 at Big Bear
DESCRIPTION:“Get Into the Deep”\n‘When He had stopped speaking\, He said to Simon\, “Launch out into the deep and let down your nets for a catch.”’ Luke 5:4-6\n‘وَلَمَّا فَرَغَ مِنَ ٱلْكَلَامِ قَالَ لِسِمْعَانَ: «ٱبْعُدْ إِلَى ٱلْعُمْقِ وَأَلْقُوا شِبَاكَكُمْ لِلصَّيْدِ ». فَأَجَابَ سِمْعَانُ وَقَالَ لَهُ: «يَا مُعَلِّمُ، قَدْ تَعِبْنَا ٱللَّيْلَ كُلَّهُ وَلَمْ نَأْخُذْ شَيْئًا. وَلَكِنْ عَلَى كَلِمَتِكَ أُلْقِي ٱلشَّبَكَةَ». وَلَمَّا فَعَلُوا ذَلِكَ أَمْسَكُوا سَمَكًا كَثِيرًا جِدًّا، فَصَارَتْ شَبَكَتُهُمْ تَتَخَرَّقُ. ‘ لُوقَا 5:4-6\n\n\nChurch Retreat at Big Bear September 2019\nBook your place now with ..\n\n\nMariam Solomon 619-787-1558\nMichael Malek 619-581-2261\n\n\nPrices are..\nAdults (12 years and above): $125\nKids from 3 to 12: $50\nKids below 3 years: Free\n\n\n\nCondos will be assigned on a 1st come\, 1st serve basis. \n 
URL:https://stdemiana.com/event/retreat-big-bear-2109/
ATTACH;FMTTYPE=image/jpeg:https://stdemiana.com/wp-content/uploads/2019/03/church3-3.jpg
END:VEVENT
BEGIN:VEVENT
DTSTART;TZID=UTC:20190622T140000
DTEND;TZID=UTC:20190622T180000
DTSTAMP:20260423T081131
CREATED:20190613T074807Z
LAST-MODIFIED:20190617T212943Z
UID:25578-1561212000-1561226400@stdemiana.com
SUMMARY:St Damiana Graduation Celebration (2019)
DESCRIPTION:“Saint Demiana church congratulates all graduates of the class of 2019! The church wishes you all great success in your next endeavor and your journey as you continue to grow and experience life.\nThe church will celebrate our graduates\, who were promoted this year on Saturday\, June 22nd at 2:00 pm to 6:00 pm. Please join us at our graduation celebration as we recognize our beloved graduates. The celebration will include a small ceremony and a light lunch for all our guests. Please join us as we wish them all continued success and happiness with our Lord Jesus Christ.”\n\n\n\n “And the LORD was with Joseph\, and he was a prosperous man” Gen 21:20\n\nYou can expect the following\n\n\n Graduation Celebration\n\n\n Food and Drinks\n\n\n Entertainment and Gifts\n\n\n\nLocation\nSaint Damiana New Church\n14300 Camino Del Sur\, San Diego\, CA 92127\n\nDate/Time\nSaturday June 22nd From 02:00pm to 06:00pm
URL:https://stdemiana.com/event/st-damiana-graduation-celebration-2019/
ATTACH;FMTTYPE=image/jpeg:https://stdemiana.com/wp-content/uploads/2019/03/church3-3.jpg
END:VEVENT
BEGIN:VEVENT
DTSTART;VALUE=DATE:20190412
DTEND;VALUE=DATE:20190413
DTSTAMP:20260423T081131
CREATED:20190316T232429Z
LAST-MODIFIED:20190316T232429Z
UID:25473-1555027200-1555113599@stdemiana.com
SUMMARY:St Damiana Shower/ Koshary Competition
DESCRIPTION:Saint Damiana Shower/Koshary Competition on April 12\, 2019:\n\nAfter eight years of hard work\, with your help we were able to finish phase one of the church. We count on your continuous support and donations to bring our church dream into reality. Please visit the church website .\nhttp://shower.stdemiana.com/\n“So let each one give as he purposes in his heart\, not grudgingly or of necessity; for God loves a cheerful giver.” 2 Corinthians 9:7.\n\nYou can expect the following\n\n\n Koshary Competition\n\n\n Food and Drinks\n\n\n Entertainment and Gifts\n\n\n\nLocation\nSaint Damiana New Church\n14300 Camino Del Sur\, San Diego\, CA 92127
URL:https://stdemiana.com/event/st-damiana-shower-april-12-19/
ATTACH;FMTTYPE=image/jpeg:https://stdemiana.com/wp-content/uploads/2019/03/church3-3.jpg
END:VEVENT
BEGIN:VEVENT
DTSTART;VALUE=DATE:20190331
DTEND;VALUE=DATE:20190401
DTSTAMP:20260423T081131
CREATED:20190314T032238Z
LAST-MODIFIED:20190314T033114Z
UID:25453-1553990400-1554076799@stdemiana.com
SUMMARY:New Church Grand Opening March 31\, 2019
DESCRIPTION:Join our Church Grand opening on March 31 \,2019.\nYou can expect the following\n\n\n Holy Litergy\n\n\n Bishop Visit\n\n\n Food and Drinks\n\n\n Entertainment and Gifts\n\n\n\nLocation\nSaint Damiana New Church\n14300 Camino Del Sur\, San Diego\, CA 92130\n\nSaint Damiana Shower on April 12\, 2019:\nAfter eight years of hard work\, with your help we were able to finish phase one of the church. We count on your continuous support and donations to bring our church dream into reality. Please visit the church website .\nhttp://shower.stdemiana.com/\n“So let each one give as he purposes in his heart\, not grudgingly or of necessity; for God loves a cheerful giver.” 2 Corinthians 9:7.
URL:https://stdemiana.com/event/church-grand-opening/
ATTACH;FMTTYPE=image/jpeg:https://stdemiana.com/wp-content/uploads/2019/03/church3-3.jpg
END:VEVENT
BEGIN:VEVENT
DTSTART;TZID=UTC:20170507T150000
DTEND;TZID=UTC:20170507T200000
DTSTAMP:20260423T081131
CREATED:20170504T113625Z
LAST-MODIFIED:20170504T114032Z
UID:25248-1494169200-1494187200@stdemiana.com
SUMMARY:Fundraising Banquet
DESCRIPTION:January 17\, 2016 from 3:00 p.m. to 7:00 p.m.\nSan Rafael Church Parish Hall\n17252 Bernardo Center Drive. San Diego\, CA 92128 \nAdvance Purchase:\n$ 25/ person & $ 10/ child under 10\nChildren under 2 are admitted free \nTo purchase tickets\, contact\nMariam Solomon at zmads@yahoo.com\nOR Germaine Malek at drgmalek@yahoo.com \n“So let each one give as he purposes in his heart\, not grudgingly or of necessity; for God loves a cheerful giver.” 2 Corinthians 9:7.
URL:https://stdemiana.com/event/fundraising-banquet-2/
ATTACH;FMTTYPE=image/jpeg:https://stdemiana.com/wp-content/uploads/2017/04/slide2-1.jpg
END:VEVENT
END:VCALENDAR